BEGIN:VCALENDAR
VERSION:2.0
PRODID:-//The Three Tuns Inn Bransgore - ECPv6.15.20//NONSGML v1.0//EN
CALSCALE:GREGORIAN
METHOD:PUBLISH
X-ORIGINAL-URL:https://www.threetunsinn.com
X-WR-CALDESC:Events for The Three Tuns Inn Bransgore
REFRESH-INTERVAL;VALUE=DURATION:PT1H
X-Robots-Tag:noindex
X-PUBLISHED-TTL:PT1H
BEGIN:VTIMEZONE
TZID:Europe/London
BEGIN:DAYLIGHT
TZOFFSETFROM:+0000
TZOFFSETTO:+0100
TZNAME:BST
DTSTART:20240331T010000
END:DAYLIGHT
BEGIN:STANDARD
TZOFFSETFROM:+0100
TZOFFSETTO:+0000
TZNAME:GMT
DTSTART:20241027T010000
END:STANDARD
BEGIN:DAYLIGHT
TZOFFSETFROM:+0000
TZOFFSETTO:+0100
TZNAME:BST
DTSTART:20250330T010000
END:DAYLIGHT
BEGIN:STANDARD
TZOFFSETFROM:+0100
TZOFFSETTO:+0000
TZNAME:GMT
DTSTART:20251026T010000
END:STANDARD
BEGIN:DAYLIGHT
TZOFFSETFROM:+0000
TZOFFSETTO:+0100
TZNAME:BST
DTSTART:20260329T010000
END:DAYLIGHT
BEGIN:STANDARD
TZOFFSETFROM:+0100
TZOFFSETTO:+0000
TZNAME:GMT
DTSTART:20261025T010000
END:STANDARD
END:VTIMEZONE
BEGIN:VEVENT
DTSTART;TZID=Europe/London:20250807T120000
DTEND;TZID=Europe/London:20250807T143000
DTSTAMP:20260421T115209
CREATED:20250801T110539Z
LAST-MODIFIED:20250801T110539Z
UID:18607-1754568000-1754577000@www.threetunsinn.com
SUMMARY:Closed until 2:30pm due to planned power cut
DESCRIPTION:
URL:https://www.threetunsinn.com/event/closed-until-230pm-due-to-planned-power-cut/
END:VEVENT
BEGIN:VEVENT
DTSTART;TZID=Europe/London:20250815T170000
DTEND;TZID=Europe/London:20250815T210000
DTSTAMP:20260421T115209
CREATED:20250808T182724Z
LAST-MODIFIED:20250808T183312Z
UID:18613-1755277200-1755291600@www.threetunsinn.com
SUMMARY:Steak Night
DESCRIPTION:
URL:https://www.threetunsinn.com/event/steak-night-2/
END:VEVENT
BEGIN:VEVENT
DTSTART;TZID=Europe/London:20250816T170000
DTEND;TZID=Europe/London:20250816T210000
DTSTAMP:20260421T115209
CREATED:20250808T182753Z
LAST-MODIFIED:20250808T183231Z
UID:18615-1755363600-1755378000@www.threetunsinn.com
SUMMARY:Steak Night
DESCRIPTION:
URL:https://www.threetunsinn.com/event/steak-night-3/
END:VEVENT
END:VCALENDAR