BEGIN:VCALENDAR
VERSION:2.0
PRODID:-//The Three Tuns Inn Bransgore - ECPv6.15.20//NONSGML v1.0//EN
CALSCALE:GREGORIAN
METHOD:PUBLISH
X-ORIGINAL-URL:https://www.threetunsinn.com
X-WR-CALDESC:Events for The Three Tuns Inn Bransgore
REFRESH-INTERVAL;VALUE=DURATION:PT1H
X-Robots-Tag:noindex
X-PUBLISHED-TTL:PT1H
BEGIN:VTIMEZONE
TZID:Europe/London
BEGIN:DAYLIGHT
TZOFFSETFROM:+0000
TZOFFSETTO:+0100
TZNAME:BST
DTSTART:20240331T010000
END:DAYLIGHT
BEGIN:STANDARD
TZOFFSETFROM:+0100
TZOFFSETTO:+0000
TZNAME:GMT
DTSTART:20241027T010000
END:STANDARD
BEGIN:DAYLIGHT
TZOFFSETFROM:+0000
TZOFFSETTO:+0100
TZNAME:BST
DTSTART:20250330T010000
END:DAYLIGHT
BEGIN:STANDARD
TZOFFSETFROM:+0100
TZOFFSETTO:+0000
TZNAME:GMT
DTSTART:20251026T010000
END:STANDARD
BEGIN:DAYLIGHT
TZOFFSETFROM:+0000
TZOFFSETTO:+0100
TZNAME:BST
DTSTART:20260329T010000
END:DAYLIGHT
BEGIN:STANDARD
TZOFFSETFROM:+0100
TZOFFSETTO:+0000
TZNAME:GMT
DTSTART:20261025T010000
END:STANDARD
END:VTIMEZONE
BEGIN:VEVENT
DTSTART;TZID=Europe/London:20250420T120000
DTEND;TZID=Europe/London:20250420T210000
DTSTAMP:20260421T234714
CREATED:20250410T151220Z
LAST-MODIFIED:20250417T102418Z
UID:18458-1745150400-1745182800@www.threetunsinn.com
SUMMARY:Easter Sunday and Easter Egg Hunt
DESCRIPTION:
URL:https://www.threetunsinn.com/event/easter-sunday-and-easter-egg-hunt/
END:VEVENT
BEGIN:VEVENT
DTSTART;TZID=Europe/London:20250422T190000
DTEND;TZID=Europe/London:20250422T233000
DTSTAMP:20260421T234714
CREATED:20250410T153425Z
LAST-MODIFIED:20250410T154221Z
UID:18472-1745348400-1745364600@www.threetunsinn.com
SUMMARY:Quiz Night
DESCRIPTION:Shepherd’s Pie and Vegetables
URL:https://www.threetunsinn.com/event/quiz-night-shepherds-pie-and-vegetables/
END:VEVENT
BEGIN:VEVENT
DTSTART;TZID=Europe/London:20250423T120000
DTEND;TZID=Europe/London:20250423T210000
DTSTAMP:20260421T234714
CREATED:20250410T151332Z
LAST-MODIFIED:20250417T102236Z
UID:18462-1745409600-1745442000@www.threetunsinn.com
SUMMARY:St George's Day
DESCRIPTION:
URL:https://www.threetunsinn.com/event/st-georges-day/
END:VEVENT
BEGIN:VEVENT
DTSTART;TZID=Europe/London:20250430T190000
DTEND;TZID=Europe/London:20250430T230000
DTSTAMP:20260421T234714
CREATED:20250207T141647Z
LAST-MODIFIED:20250306T163624Z
UID:18313-1746039600-1746054000@www.threetunsinn.com
SUMMARY:Nose to Tail Menu
DESCRIPTION:
URL:https://www.threetunsinn.com/event/nose-to-tail-menu/
CATEGORIES:Special Event
END:VEVENT
END:VCALENDAR